BEGIN:VCALENDAR
VERSION:2.0
PRODID:-//Wake Baptist Grove Church - ECPv6.15.20//NONSGML v1.0//EN
CALSCALE:GREGORIAN
METHOD:PUBLISH
X-WR-CALNAME:Wake Baptist Grove Church
X-ORIGINAL-URL:https://wakebaptistgrovechurch.org
X-WR-CALDESC:Events for Wake Baptist Grove Church
REFRESH-INTERVAL;VALUE=DURATION:PT1H
X-Robots-Tag:noindex
X-PUBLISHED-TTL:PT1H
BEGIN:VTIMEZONE
TZID:UTC
BEGIN:STANDARD
TZOFFSETFROM:+0000
TZOFFSETTO:+0000
TZNAME:UTC
DTSTART:20240101T000000
END:STANDARD
END:VTIMEZONE
BEGIN:VEVENT
DTSTART;TZID=UTC:20251213T150000
DTEND;TZID=UTC:20251213T170000
DTSTAMP:20260422T154841
CREATED:20251202T005424Z
LAST-MODIFIED:20251202T005426Z
UID:2097-1765638000-1765645200@wakebaptistgrovechurch.org
SUMMARY:Mingle & Jingle: A Season of Joy Christmas Celebration
DESCRIPTION:
URL:https://wakebaptistgrovechurch.org/event/mingle-jingle-a-season-of-joy-christmas-celebration/
END:VEVENT
BEGIN:VEVENT
DTSTART;TZID=UTC:20251018T110000
DTEND;TZID=UTC:20251019T120000
DTSTAMP:20260422T154841
CREATED:20250920T200254Z
LAST-MODIFIED:20250920T200257Z
UID:2054-1760785200-1760875200@wakebaptistgrovechurch.org
SUMMARY:158th Church Homecoming
DESCRIPTION:
URL:https://wakebaptistgrovechurch.org/event/158th-church-homecoming/
END:VEVENT
BEGIN:VEVENT
DTSTART;TZID=UTC:20250927T110000
DTEND;TZID=UTC:20250927T120000
DTSTAMP:20260422T154841
CREATED:20250904T010017Z
LAST-MODIFIED:20250904T010020Z
UID:2041-1758970800-1758974400@wakebaptistgrovechurch.org
SUMMARY:Estate Planning Workshop
DESCRIPTION:Join us for a powerful and informative session designed to help you get your house in order  regarding estate planning and funding. There is a signup sheet in the vestibule if you are planning to attend. Lunch is provided.
URL:https://wakebaptistgrovechurch.org/event/estate-planning-workshop/
END:VEVENT
BEGIN:VEVENT
DTSTART;TZID=UTC:20250819T190000
DTEND;TZID=UTC:20250821T190000
DTSTAMP:20260422T154841
CREATED:20250815T031203Z
LAST-MODIFIED:20250815T031206Z
UID:2020-1755630000-1755802800@wakebaptistgrovechurch.org
SUMMARY:2025 - Annual Revival
DESCRIPTION:
URL:https://wakebaptistgrovechurch.org/event/2025-annual-revival/
END:VEVENT
BEGIN:VEVENT
DTSTART;TZID=UTC:20250607T110000
DTEND;TZID=UTC:20250607T150000
DTSTAMP:20260422T154841
CREATED:20250601T013353Z
LAST-MODIFIED:20250601T013354Z
UID:1963-1749294000-1749308400@wakebaptistgrovechurch.org
SUMMARY:Community Day!
DESCRIPTION:We are excited to invite you and your family to join us at Community Day! Come hang out and have a good time!
URL:https://wakebaptistgrovechurch.org/event/community-day/
END:VEVENT
BEGIN:VEVENT
DTSTART;TZID=UTC:20250322T120000
DTEND;TZID=UTC:20250322T140000
DTSTAMP:20260422T154841
CREATED:20250316T025838Z
LAST-MODIFIED:20250316T211817Z
UID:1896-1742644800-1742652000@wakebaptistgrovechurch.org
SUMMARY:Women's Weekend
DESCRIPTION:ATTENTION ALL WOMEN!!! Get ready for the Wake Baptist Grove Church Women’s Day celebration and Chat & Chew. This will be a joint endeavor led by the Program ministry and the deacon’s wives ministry. Our theme is “Blessed by Living Water”. Our colors are Light Blue\, Silver\, and White.On March 22nd at noon\, join us for our fellowship session. Enjoy fun\, fellowship\, spiritual\, and health information\, as well as a delicious lunch.On March 23rd\, Join us as our guest preacher\, Reverend Alexis Best\, from Wake Chapel Church shares her powerful message from the Lord!
URL:https://wakebaptistgrovechurch.org/event/womens-weekend/
LOCATION:Wake Baptist Grove Church\, 302 E Main St\, Garner\, North Carolina\, 27529\, United States
END:VEVENT
END:VCALENDAR